BEGIN:VCALENDAR
VERSION:2.0
BEGIN:VEVENT
DTSTART:20190415T190000Z
DTEND:20190420T080000Z
SUMMARY:2019 AON National Age Group Championships
DESCRIPTION:Online entries close midnight Tuesday 3rd April 2019
LOCATION:Wellington Regional Aquatic Centre, 63 Kilbirnie Crescent, Kilbirnie, Wellington, New Zealand
END:VEVENT
END:VCALENDAR