BEGIN:VCALENDAR
VERSION:2.0
BEGIN:VEVENT
DTSTART:20190312T180000Z
DTEND:20190316T070000Z
SUMMARY:2019 NZ Division II Championships
DESCRIPTION:Online entries close midnight Tuesday 26th February
LOCATION:Moana Pool, Dunedin, New Zealand
END:VEVENT
END:VCALENDAR