BEGIN:VCALENDAR
VERSION:2.0
BEGIN:VEVENT
DTSTART:20190111T190000Z
DTEND:20190113T050000Z
SUMMARY:2019 NZ Open Water Championships
DESCRIPTION:Details to be advised
LOCATION:Taupo, New Zealand
END:VEVENT
END:VCALENDAR